BEGIN:VCALENDAR
VERSION:2.0
PRODID:icalendar-ruby
CALSCALE:GREGORIAN
METHOD:PUBLISH
BEGIN:VEVENT
DTSTAMP:20260419T130611Z
UID:8-432614@spiritlife.tithelysetup5.com
DTSTART:20260913T150000Z
DTEND:20260913T163000Z
CLASS:PUBLIC
CREATED:20260419T021258
DESCRIPTION:
LAST-MODIFIED:20260419T021258
LOCATION:
SUMMARY:Sunday Worship
URL;VALUE=URI:https://www.spiritlifechurch.faith/events/sunday-worship--8/2
 026-09-13
END:VEVENT
END:VCALENDAR
