BEGIN:VCALENDAR
VERSION:2.0
PRODID:icalendar-ruby
CALSCALE:GREGORIAN
METHOD:PUBLISH
BEGIN:VEVENT
DTSTAMP:20260419T164038Z
UID:8-432930@spiritlife.tithelysetup5.com
DTSTART:20260927T150000Z
DTEND:20260927T163000Z
CLASS:PUBLIC
CREATED:20260419T073722
DESCRIPTION:
LAST-MODIFIED:20260419T073722
LOCATION:
SUMMARY:Sunday Worship
URL;VALUE=URI:https://www.spiritlifechurch.faith/events/sunday-worship--8/2
 026-09-27
END:VEVENT
END:VCALENDAR
