BEGIN:VCALENDAR
VERSION:2.0
PRODID:icalendar-ruby
CALSCALE:GREGORIAN
METHOD:PUBLISH
BEGIN:VEVENT
DTSTAMP:20260419T200210Z
UID:8-433246@spiritlife.tithelysetup5.com
DTSTART:20261011T150000Z
DTEND:20261011T163000Z
CLASS:PUBLIC
CREATED:20260419T111917
DESCRIPTION:
LAST-MODIFIED:20260419T111917
LOCATION:
SUMMARY:Sunday Worship
URL;VALUE=URI:https://www.spiritlifechurch.faith/events/sunday-worship--8/2
 026-10-11
END:VEVENT
END:VCALENDAR
