BEGIN:VCALENDAR
VERSION:2.0
PRODID:icalendar-ruby
CALSCALE:GREGORIAN
METHOD:PUBLISH
BEGIN:VEVENT
DTSTAMP:20260419T233506Z
UID:8-433563@spiritlife.tithelysetup5.com
DTSTART:20261025T150000Z
DTEND:20261025T163000Z
CLASS:PUBLIC
CREATED:20260419T150143
DESCRIPTION:
LAST-MODIFIED:20260419T150143
LOCATION:
SUMMARY:Sunday Worship
URL;VALUE=URI:https://www.spiritlifechurch.faith/events/sunday-worship--8/2
 026-10-25
END:VEVENT
END:VCALENDAR
