BEGIN:VCALENDAR
VERSION:2.0
PRODID:icalendar-ruby
CALSCALE:GREGORIAN
METHOD:PUBLISH
BEGIN:VEVENT
DTSTAMP:20260420T012457Z
UID:8-433879@spiritlife.tithelysetup5.com
DTSTART:20261101T150000Z
DTEND:20261101T163000Z
CLASS:PUBLIC
CREATED:20260419T184330
DESCRIPTION:
LAST-MODIFIED:20260419T184330
LOCATION:
SUMMARY:Sunday Worship
URL;VALUE=URI:https://www.spiritlifechurch.faith/events/sunday-worship--8/2
 026-11-01
END:VEVENT
END:VCALENDAR
